BEGIN:VCALENDAR
VERSION:2.0
PRODID:-//Habitat for Humanity - ECPv5.2.1.1//NONSGML v1.0//EN
CALSCALE:GREGORIAN
METHOD:PUBLISH
X-WR-CALNAME:Habitat for Humanity
X-ORIGINAL-URL:https://www.rchfh.org
X-WR-CALDESC:Events for Habitat for Humanity
BEGIN:VTIMEZONE
TZID:UTC
BEGIN:STANDARD
TZOFFSETFROM:+0000
TZOFFSETTO:+0000
TZNAME:UTC
DTSTART:20180101T000000
END:STANDARD
END:VTIMEZONE
BEGIN:VEVENT
DTSTART;TZID=UTC:20180512T080000
DTEND;TZID=UTC:20180512T150000
DTSTAMP:20260424T070906
CREATED:20180130T192225Z
LAST-MODIFIED:20180130T192534Z
UID:2217-1526112000-1526137200@www.rchfh.org
SUMMARY:St. Paul's Panel Build
DESCRIPTION:Panel Build at St. Paul’s Episcopal Church today! \nIf you are not familiar with our panel builds\, we start the day with an empty parking lot\, \nvolunteers\, and building materials. \nAs we construct our wall panels throughout the day we “build” the house in the parking lot. \nThis panel build will be for our future homeowner Takisha!
URL:https://www.rchfh.org/event/st-pauls-panel-build/
LOCATION:St. Paul’s Episcopal Church\, 116 N Academy St.\, Murfreesboro\, TN\, 37130
CATEGORIES:Panel Build
ORGANIZER;CN="Rutherford%20Co%20Area%20Habitat%20for%20Humanity":MAILTO:megan@rchfh.org
END:VEVENT
END:VCALENDAR